BEGIN:VCALENDAR
VERSION:2.0
PRODID:-//Evanston History Center - ECPv6.15.20//NONSGML v1.0//EN
CALSCALE:GREGORIAN
METHOD:PUBLISH
X-WR-CALNAME:Evanston History Center
X-ORIGINAL-URL:https://evanstonhistorycenter.org
X-WR-CALDESC:Events for Evanston History Center
REFRESH-INTERVAL;VALUE=DURATION:PT1H
X-Robots-Tag:noindex
X-PUBLISHED-TTL:PT1H
BEGIN:VTIMEZONE
TZID:America/Chicago
BEGIN:DAYLIGHT
TZOFFSETFROM:-0600
TZOFFSETTO:-0500
TZNAME:CDT
DTSTART:20250309T080000
END:DAYLIGHT
BEGIN:STANDARD
TZOFFSETFROM:-0500
TZOFFSETTO:-0600
TZNAME:CST
DTSTART:20251102T070000
END:STANDARD
BEGIN:DAYLIGHT
TZOFFSETFROM:-0600
TZOFFSETTO:-0500
TZNAME:CDT
DTSTART:20260308T080000
END:DAYLIGHT
BEGIN:STANDARD
TZOFFSETFROM:-0500
TZOFFSETTO:-0600
TZNAME:CST
DTSTART:20261101T070000
END:STANDARD
BEGIN:DAYLIGHT
TZOFFSETFROM:-0600
TZOFFSETTO:-0500
TZNAME:CDT
DTSTART:20270314T080000
END:DAYLIGHT
BEGIN:STANDARD
TZOFFSETFROM:-0500
TZOFFSETTO:-0600
TZNAME:CST
DTSTART:20271107T070000
END:STANDARD
END:VTIMEZONE
BEGIN:VEVENT
DTSTART;TZID=America/Chicago:20260221T120000
DTEND;TZID=America/Chicago:20260221T130000
DTSTAMP:20260421T052523
CREATED:20251230T000706Z
LAST-MODIFIED:20260121T205513Z
UID:15411-1771675200-1771678800@evanstonhistorycenter.org
SUMMARY:Welcome to the Research Room: How to Begin Your Home Research
DESCRIPTION:<strong>Welcome to the Research Room: How to Begin Your Home Research</strong>

Saturday, February 21, 2026 12:00 p.m. – 1:00 p.m.
<span class="OYPEnA text-decoration-none text-strikethrough-none">In-person event
At the <a href="https://evanstonhistorycenter.org/">Evanston History Center</a>
225 Greenwood St, Evanston, IL</span>

<strong>About the event:</strong>

Curious what our Research Room has to offer? Begin your explorations in 2026 with our Welcome to the Research Room series. For our February session, we will share steps, resources, and more information to get you started researching the past inhabitants, architectural, and historical details of your Evanston home.  FREE, but space is limited to 15 people.*

*Due to limited space, please only RSVP if you know you can make it. If you RSVP and your plans change, please email info@evanstonhistorycenter.org so we can give your spot to someone else.

&nbsp;
URL:https://evanstonhistorycenter.org/event/welcome-to-the-research-room-how-to-begin-your-home-research/
LOCATION:Evanston History Center\, 225 Greenwood Street\, Evanston\, IL\, 60201\, United States
CATEGORIES:Holiday,Upcoming Events
ATTACH;FMTTYPE=image/png:https://evanstonhistorycenter.org/wp-content/uploads/2025/12/Archives-SImple.png
ORGANIZER;CN="Evanston History Center":MAILTO:kfabian@evanstonhistorycenter.org
END:VEVENT
END:VCALENDAR